BEGIN:VCALENDAR
VERSION:2.0
PRODID:-//Church Wigan - ECPv6.15.20//NONSGML v1.0//EN
CALSCALE:GREGORIAN
METHOD:PUBLISH
X-ORIGINAL-URL:https://churchwigan.org
X-WR-CALDESC:Events for Church Wigan
REFRESH-INTERVAL;VALUE=DURATION:PT1H
X-Robots-Tag:noindex
X-PUBLISHED-TTL:PT1H
BEGIN:VTIMEZONE
TZID:UTC
BEGIN:STANDARD
TZOFFSETFROM:+0000
TZOFFSETTO:+0000
TZNAME:UTC
DTSTART:20230101T000000
END:STANDARD
END:VTIMEZONE
BEGIN:VEVENT
DTSTART;TZID=UTC:20240420T093000
DTEND;TZID=UTC:20240420T130000
DTSTAMP:20260423T071910
CREATED:20240410T161654Z
LAST-MODIFIED:20240410T164208Z
UID:4159-1713605400-1713618000@churchwigan.org
SUMMARY:Exploring the Psalms 1: Psalms of David\, Jesus and us
DESCRIPTION:This is the first of five sessions exploring the Book of Psalms and how these ancient prayers can enrich our prayers as disciples of Jesus. We will investigate the historical setting and literary form of these prayers\, and ask how these prayers shaped the prayer of Jesus and his disciples ever since.
URL:https://churchwigan.org/event/living-the-psalms/
LOCATION:St Francis\, Kitt Green\, City Road\, Wigan\, WN5 0BA\, United Kingdom
END:VEVENT
END:VCALENDAR