BEGIN:VCALENDAR
VERSION:2.0
PRODID:-//Church Wigan - ECPv6.15.20//NONSGML v1.0//EN
CALSCALE:GREGORIAN
METHOD:PUBLISH
X-ORIGINAL-URL:https://churchwigan.org
X-WR-CALDESC:Events for Church Wigan
REFRESH-INTERVAL;VALUE=DURATION:PT1H
X-Robots-Tag:noindex
X-PUBLISHED-TTL:PT1H
BEGIN:VTIMEZONE
TZID:UTC
BEGIN:STANDARD
TZOFFSETFROM:+0000
TZOFFSETTO:+0000
TZNAME:UTC
DTSTART:20230101T000000
END:STANDARD
END:VTIMEZONE
BEGIN:VEVENT
DTSTART;TZID=UTC:20250128T190000
DTEND;TZID=UTC:20250128T203000
DTSTAMP:20260422T112930
CREATED:20250110T141950Z
LAST-MODIFIED:20250110T142455Z
UID:6516-1738090800-1738096200@churchwigan.org
SUMMARY:Moving On - Discipleship Course
DESCRIPTION:Do you want to grow in your faith and discover more about discipleship? This could be just what you’re looking for. It’s a down to earth 7 week course lasting 90 mins and covers topics such as: \n\nBeing wholehearted disciples\nChristian stewardship\nExploring the Trinity and the Holy Spirit\nGrowing in relationship to God\nBeing an active\, committed church member\nBenefits and challenges of following Jesus\n\nEvery Tuesday 7pm from 28th January – 11th March 2025
URL:https://churchwigan.org/event/moving-on-discipleship-course/
LOCATION:St Luke’s\, Stubshaw\, Golborne Road\, Stubshaw Cross\, Ashton-in-Makerfield\, Wigan\, WN4 8SJ\, United Kingdom
END:VEVENT
BEGIN:VEVENT
DTSTART;TZID=UTC:20250120T193000
DTEND;TZID=UTC:20250120T203000
DTSTAMP:20260422T112930
CREATED:20250110T103002Z
LAST-MODIFIED:20250110T115827Z
UID:6445-1737401400-1737405000@churchwigan.org
SUMMARY:Lifted Worship and Prayer Evening
DESCRIPTION:‘Lifted’ is our network of social justice ministries. \nThe network will host its next Worship & Prayer evening at St Thomas’ Ashton. \nPacked with good news stories\, this regular event is always highly encouraging. Come support the cause in prayer.
URL:https://churchwigan.org/event/lifted-worship-and-prayer-evening/
LOCATION:St Thomas\, Ashton in Makerfield\, Warrington Road\, Ashton-in-Makerfield\, Wigan\, WN4 9DZ\, United Kingdom
END:VEVENT
BEGIN:VEVENT
DTSTART;TZID=UTC:20241102T093000
DTEND;TZID=UTC:20241102T130000
DTSTAMP:20260422T112930
CREATED:20240410T180902Z
LAST-MODIFIED:20240410T180902Z
UID:4178-1730539800-1730552400@churchwigan.org
SUMMARY:Explore the Psalms 5: Psalms to Pray 'Your Kingdom Come'
DESCRIPTION:In this final session exploring the Book of Psalms\, we discover how many psalms were addressed to God as King while others are prayers for the earthly king of Israel. Here we will learn how the psalms can help us pray for God’s kingdom rule to come ‘in Wigan as in heaven’\, just as Jesus taught his disciples.
URL:https://churchwigan.org/event/explore-the-psalms-5-psalms-to-pray-your-kingdom-come/
LOCATION:St Francis\, Kitt Green\, City Road\, Wigan\, WN5 0BA\, United Kingdom
END:VEVENT
BEGIN:VEVENT
DTSTART;TZID=UTC:20241005T193000
DTEND;TZID=UTC:20241005T193000
DTSTAMP:20260422T112930
CREATED:20240827T124725Z
LAST-MODIFIED:20240827T125211Z
UID:5517-1728156600-1728156600@churchwigan.org
SUMMARY:Quiz Night - St Elizabeth Parish Hall
DESCRIPTION:  \n \nSaturday 5th October\, 7.30pm\,  \nSt Elizabeth Parish Hall\, Bolton Road\, Aspull\, WN2 1QW \nTeams of up to six people\, £5 pp including refreshments. \nContact Sheila Ryding 01942 832368 / 07740 965 110 to book your place
URL:https://churchwigan.org/event/quiz-night-st-elizabeth-parish-hall/
LOCATION:St Elizabeth\, Aspull\, Bolton Road\, Aspull\, WN2 1QW\, United Kingdom
END:VEVENT
BEGIN:VEVENT
DTSTART;TZID=UTC:20240928T130000
DTEND;TZID=UTC:20240928T160000
DTSTAMP:20260422T112930
CREATED:20240823T132752Z
LAST-MODIFIED:20240823T132752Z
UID:5509-1727528400-1727539200@churchwigan.org
SUMMARY:Fundraiser Charity Event
DESCRIPTION:In aid of Ronald Mcdonald House Charity\, a worthy cause that supports and provides a lifeline to families who have poorly children in hospital. \nSat 28th September 1-4pm at the church hall St Francis Kitt Green – Free Entry
URL:https://churchwigan.org/event/fundraiser-charity-event/
LOCATION:St Francis\, Kitt Green\, City Road\, Wigan\, WN5 0BA\, United Kingdom
END:VEVENT
BEGIN:VEVENT
DTSTART;TZID=UTC:20240916T193000
DTEND;TZID=UTC:20240916T193000
DTSTAMP:20260422T112930
CREATED:20240823T133130Z
LAST-MODIFIED:20240823T133130Z
UID:5514-1726515000-1726515000@churchwigan.org
SUMMARY:Lifted Volunteer Celebration Event
DESCRIPTION:Lifted Volunteer Celebration Event on Monday 16th September 7.30pm at Annie’s Pantry. \nA time to pray and worship together.
URL:https://churchwigan.org/event/lifted-volunteer-celebration-event/
LOCATION:Annie’s Pantry\, St Anne's Community Centre\, Beech Hill\, WN6 7TA\, United Kingdom
END:VEVENT
BEGIN:VEVENT
DTSTART;TZID=UTC:20240914T130000
DTEND;TZID=UTC:20240914T130000
DTSTAMP:20260422T112930
CREATED:20240410T180245Z
LAST-MODIFIED:20240823T132520Z
UID:4176-1726318800-1726318800@churchwigan.org
SUMMARY:Exploring the Psalms 4: Psalms of God's Word and Wisdom
DESCRIPTION:In this fourth session exploring the ancient songbook of Israel\, we discover the many psalms that reveal God’s wisdom through his word. Come and learn how God shapes and grows us as we reflect and pray on the priceless treasure found in these psalms. \n  \nExploring how God forms and shapes us as his disciples through reflection of his word. \n14th September 1pm at St Francis Kitt Green
URL:https://churchwigan.org/event/exploring-the-psalms-4-psalms-of-gods-word-and-wisdom/
LOCATION:St Francis\, Kitt Green\, City Road\, Wigan\, WN5 0BA\, United Kingdom
END:VEVENT
BEGIN:VEVENT
DTSTART;TZID=UTC:20240908T160000
DTEND;TZID=UTC:20240908T160000
DTSTAMP:20260422T112930
CREATED:20240823T132929Z
LAST-MODIFIED:20240823T132929Z
UID:5511-1725811200-1725811200@churchwigan.org
SUMMARY:Special Service - All Saints Church (Wigan Parish)
DESCRIPTION:Sunday\, 8th September at 4pm a special service to mark the end of the “Walk to Remember” those lost to suicide. Organized by the charity Epic Hope\, this event honors loved ones and raises awareness for suicide prevention. All are welcome.
URL:https://churchwigan.org/event/special-service-all-saints-church-wigan-parish/
LOCATION:All Saints Church (Wigan Parish Church)\, Bishopgate\, Wigan\, WN1 1NL\, United Kingdom
END:VEVENT
BEGIN:VEVENT
DTSTART;TZID=UTC:20240713T093000
DTEND;TZID=UTC:20240713T130000
DTSTAMP:20260422T112930
CREATED:20240410T175213Z
LAST-MODIFIED:20240410T175213Z
UID:4174-1720863000-1720875600@churchwigan.org
SUMMARY:Exploring the Psalms 3: Psalms to express sorrow and suffering
DESCRIPTION:The third session in our Exploring the Psalms series is all about the important concept of Lament. These psalms express the anguish and despair that people feel\, either individually or as a community\, through their experience of suffering and calling on God to act. This session will help you understand how psalms of lament can enable us to be real about suffering yet also receive God’s grace within it.
URL:https://churchwigan.org/event/exploring-the-psalms-3-psalms-to-express-sorrow-and-suffering/
LOCATION:St Francis\, Kitt Green\, City Road\, Wigan\, WN5 0BA\, United Kingdom
END:VEVENT
BEGIN:VEVENT
DTSTART;TZID=UTC:20240608T093000
DTEND;TZID=UTC:20240608T130000
DTSTAMP:20260422T112930
CREATED:20240410T165455Z
LAST-MODIFIED:20240410T165455Z
UID:4167-1717839000-1717851600@churchwigan.org
SUMMARY:Exploring the Psalms 2: Psalms for giving praise and thanks to God
DESCRIPTION:This is the second session in our series on the Book of Psalms looking at the psalms that help us praise God for who he is and thank him for what he has done. From these ancient prayers we will see how God’s people have praised him for his unchanging nature and character\, and be inspired to fill our prayers with praise and thanksgiving for who God is and what he has done.
URL:https://churchwigan.org/event/exploring-the-psalms-2-psalms-for-giving-praise-and-thanks-to-god/
LOCATION:St Francis\, Kitt Green\, City Road\, Wigan\, WN5 0BA\, United Kingdom
END:VEVENT
BEGIN:VEVENT
DTSTART;TZID=UTC:20240505T190000
DTEND;TZID=UTC:20240505T203000
DTSTAMP:20260422T112930
CREATED:20240410T174111Z
LAST-MODIFIED:20240410T174111Z
UID:4169-1714935600-1714941000@churchwigan.org
SUMMARY:The Well - 'Salt\, light and sport'
DESCRIPTION:The Well is Church Wigan’s monthly gathering to seek and enjoy God’s refreshing presence. It is informal and contemporary in style\, with a space to sing praises\, learn about how we can grow as disciples\, and to respond in prayer and reflection. \nOur theme this month is all about sports chaplaincy and how we can fruitfully engage in a mission field that nationally consists of more than 160\,000 clubs and 30 million people. As Church Wigan launches its new sports chaplains ministry\, we’re delighted to welcome a very special guest speaker to The Well: the inspiring Warren Evans\, CEO of Sports Chaplaincy UK and Chair of the Bradford Bulls Foundation. Don’t miss! \n 
URL:https://churchwigan.org/event/the-well-salt-light-and-sport/
LOCATION:St Mark\, Newtown\, Victoria Road\, Wigan\, WN5 9BN\, United Kingdom
END:VEVENT
BEGIN:VEVENT
DTSTART;TZID=UTC:20240502T193000
DTEND;TZID=UTC:20240502T210000
DTSTAMP:20260422T112930
CREATED:20240410T181538Z
LAST-MODIFIED:20240410T181538Z
UID:4180-1714678200-1714683600@churchwigan.org
SUMMARY:Annual Meeting of the Parish of Wigan East-Chapelfields (APCM)
DESCRIPTION:This is the annual parish meeting of the Parish of Wigan East-Chapelfields to report on activities and finances from 2023 and appoint church wardens and new parish council members. It is an important in the life of the parish\, presenting information that every church member should know and giving you the opportunity to elect your parish representatives. Do come along.
URL:https://churchwigan.org/event/annual-meeting-of-the-parish-of-wigan-east-chapelfields-apcm/
LOCATION:TBC
END:VEVENT
BEGIN:VEVENT
DTSTART;TZID=UTC:20240426T100000
DTEND;TZID=UTC:20240427T160000
DTSTAMP:20260422T112930
CREATED:20240412T163530Z
LAST-MODIFIED:20240412T163530Z
UID:4203-1714125600-1714233600@churchwigan.org
SUMMARY:Wigan History Festival
DESCRIPTION:This festival will celebrate more than 1000 years of Wigan history\, covering the town’s history from the Romans right up to the present day. It will feature a temporary pop-up cinema and a lecture theatre. Organiser Mervyn Reeves says\, ‘The event will be open 10am-4pm on both days. There will be displays staffed by experts showing the history of Wigan\, with plenty to see\, handle and hear about. A cinema will run throughout the two days\, with speakers during the whole period. Entrance is free. You can also enjoy a guided tour of the historic parish church.’ \nThe festival will be officially opened by the Mayor of Wigan on Friday 26th April at 11am.
URL:https://churchwigan.org/event/wigan-history-festival/
LOCATION:All Saints Church (Wigan Parish Church)\, Bishopgate\, Wigan\, WN1 1NL\, United Kingdom
END:VEVENT
BEGIN:VEVENT
DTSTART;TZID=UTC:20240420T093000
DTEND;TZID=UTC:20240420T130000
DTSTAMP:20260422T112930
CREATED:20240410T161654Z
LAST-MODIFIED:20240410T164208Z
UID:4159-1713605400-1713618000@churchwigan.org
SUMMARY:Exploring the Psalms 1: Psalms of David\, Jesus and us
DESCRIPTION:This is the first of five sessions exploring the Book of Psalms and how these ancient prayers can enrich our prayers as disciples of Jesus. We will investigate the historical setting and literary form of these prayers\, and ask how these prayers shaped the prayer of Jesus and his disciples ever since.
URL:https://churchwigan.org/event/living-the-psalms/
LOCATION:St Francis\, Kitt Green\, City Road\, Wigan\, WN5 0BA\, United Kingdom
END:VEVENT
END:VCALENDAR